BEGIN:VCALENDAR
VERSION:2.0
PRODID:-//Encore Dance Academy - ECPv6.15.20//NONSGML v1.0//EN
CALSCALE:GREGORIAN
METHOD:PUBLISH
X-ORIGINAL-URL:https://encoredanceacademyde.com
X-WR-CALDESC:Events for Encore Dance Academy
REFRESH-INTERVAL;VALUE=DURATION:PT1H
X-Robots-Tag:noindex
X-PUBLISHED-TTL:PT1H
BEGIN:VTIMEZONE
TZID:America/New_York
BEGIN:DAYLIGHT
TZOFFSETFROM:-0500
TZOFFSETTO:-0400
TZNAME:EDT
DTSTART:20240310T070000
END:DAYLIGHT
BEGIN:STANDARD
TZOFFSETFROM:-0400
TZOFFSETTO:-0500
TZNAME:EST
DTSTART:20241103T060000
END:STANDARD
BEGIN:DAYLIGHT
TZOFFSETFROM:-0500
TZOFFSETTO:-0400
TZNAME:EDT
DTSTART:20250309T070000
END:DAYLIGHT
BEGIN:STANDARD
TZOFFSETFROM:-0400
TZOFFSETTO:-0500
TZNAME:EST
DTSTART:20251102T060000
END:STANDARD
BEGIN:DAYLIGHT
TZOFFSETFROM:-0500
TZOFFSETTO:-0400
TZNAME:EDT
DTSTART:20260308T070000
END:DAYLIGHT
BEGIN:STANDARD
TZOFFSETFROM:-0400
TZOFFSETTO:-0500
TZNAME:EST
DTSTART:20261101T060000
END:STANDARD
END:VTIMEZONE
BEGIN:VEVENT
DTSTART;TZID=America/New_York:20251026T130000
DTEND;TZID=America/New_York:20251026T170000
DTSTAMP:20260426T002213
CREATED:20250815T163320Z
LAST-MODIFIED:20250815T163535Z
UID:3850-1761483600-1761498000@encoredanceacademyde.com
SUMMARY:Newark Halloween Parade- Elite Ensemble Participate
DESCRIPTION:Newark Halloween Parade & Trick or Treat Main Street \nThe parade runs from 3pm-5pm down Main Street.  We will have a theme\, and everyone can dress accordingly. \nIn past years\, we’ve had to meet at a location around 1ish- we won’t know the exact times until we are told by the City of Newark. \nThis is such a fun day for all
URL:https://encoredanceacademyde.com/event/newark-halloween-parade-elite-ensemble-participate/
LOCATION:DE
CATEGORIES:Performances
END:VEVENT
END:VCALENDAR