BEGIN:VCALENDAR
VERSION:2.0
PRODID:-//Encore Dance Academy - ECPv6.15.20//NONSGML v1.0//EN
CALSCALE:GREGORIAN
METHOD:PUBLISH
X-WR-CALNAME:Encore Dance Academy
X-ORIGINAL-URL:https://encoredanceacademyde.com
X-WR-CALDESC:Events for Encore Dance Academy
REFRESH-INTERVAL;VALUE=DURATION:PT1H
X-Robots-Tag:noindex
X-PUBLISHED-TTL:PT1H
BEGIN:VTIMEZONE
TZID:America/New_York
BEGIN:DAYLIGHT
TZOFFSETFROM:-0500
TZOFFSETTO:-0400
TZNAME:EDT
DTSTART:20240310T070000
END:DAYLIGHT
BEGIN:STANDARD
TZOFFSETFROM:-0400
TZOFFSETTO:-0500
TZNAME:EST
DTSTART:20241103T060000
END:STANDARD
BEGIN:DAYLIGHT
TZOFFSETFROM:-0500
TZOFFSETTO:-0400
TZNAME:EDT
DTSTART:20250309T070000
END:DAYLIGHT
BEGIN:STANDARD
TZOFFSETFROM:-0400
TZOFFSETTO:-0500
TZNAME:EST
DTSTART:20251102T060000
END:STANDARD
BEGIN:DAYLIGHT
TZOFFSETFROM:-0500
TZOFFSETTO:-0400
TZNAME:EDT
DTSTART:20260308T070000
END:DAYLIGHT
BEGIN:STANDARD
TZOFFSETFROM:-0400
TZOFFSETTO:-0500
TZNAME:EST
DTSTART:20261101T060000
END:STANDARD
END:VTIMEZONE
BEGIN:VEVENT
DTSTART;TZID=America/New_York:20251207T100000
DTEND;TZID=America/New_York:20251207T190000
DTSTAMP:20260425T225228
CREATED:20250814T002752Z
LAST-MODIFIED:20251020T160627Z
UID:3830-1765101600-1765134000@encoredanceacademyde.com
SUMMARY:Winter Wonderland Show
DESCRIPTION: Winter Wonderland Show 2025 – Tickets On Sale Now! \nGet ready for a magical celebration of the season with two showtimes to choose from — be sure to select the correct one when purchasing your tickets! \n Buy Tickets & Shirts Here: https://29026.danceticketing.com/ \n Winter Show Shirts are also available through the ticketing website.\n Shirt sales end November 3rd to ensure delivery in time for the show! \n Bazaar Between Shows\nEnjoy festive fun between the two performances: \n\n Games\n Holiday Shop\n Local Vendors\n Bake Sale\n Visit with Santa!\n\nDon’t miss this festive family event!
URL:https://encoredanceacademyde.com/event/winter-wonderland-show/
LOCATION:St. Marks High School\, 2501 Pike Creek Road\, Wilmington\, DE\, 19808\, United States
CATEGORIES:Performances
END:VEVENT
END:VCALENDAR